BEGIN:VCALENDAR
VERSION:2.0
PRODID:-// - ECPv6.15.20//NONSGML v1.0//EN
CALSCALE:GREGORIAN
METHOD:PUBLISH
X-ORIGINAL-URL:https://gnatyukartcenter.com
X-WR-CALDESC:Події за 
REFRESH-INTERVAL;VALUE=DURATION:PT1H
X-Robots-Tag:noindex
X-PUBLISHED-TTL:PT1H
BEGIN:VTIMEZONE
TZID:UTC
BEGIN:STANDARD
TZOFFSETFROM:+0000
TZOFFSETTO:+0000
TZNAME:UTC
DTSTART:20250101T000000
END:STANDARD
END:VTIMEZONE
BEGIN:VEVENT
DTSTART;TZID=UTC:20260321T160000
DTEND;TZID=UTC:20260321T180000
DTSTAMP:20260419T132644
CREATED:20260306T112707Z
LAST-MODIFIED:20260306T112707Z
UID:5595-1774108800-1774116000@gnatyukartcenter.com
SUMMARY:Перфоманс плейбек-театру "Сусіди" (м. Дніпро) в Житомирі!
DESCRIPTION:Вперше в Житомирі!Виступ плейбек-театру “Сусіди” (м.Дніпро).\nПлейбек-театр – це жива імпровізація\, де актори відтворюють на сцені історії\, які розповідають глядачі. Веселі чи сумні\, недавні чи давні – головне\, що вони справжні та ваші.\nДніпровський театр «Сусіди» понад 15 років створює простір\, де в людей з’являється можливість поділитись важливими історіями і вийти ближчими одне до одного. А єдність зараз нам життєво необхідна.\nЦе тепла зустріч\, де кожна історія має значення.Приходьте відчути\, як звучить життя – у ваших власних словах.\n21 березня о 16:00\nGnatyuk Art Center (Житомир\, Велика Бердичівська\, 20)Вартість: 350 грн.У день перфомансу: 400 грн.\nАле це ще не все! Наступного дня\, 22 березня\, ми запрошуємо вас на майстер-клас з плейбек-театру\, де ви зможете спробувати себе у ролі актора театру імпровізації та доторкнутись до цього методу.\n22 березня з 10:00 до 12:00Art Studio “Butterfly” (Житомир\, вул.Домбровського\, 3А)Вартість: 450 грн.Ведуча: Анна Погорелова (м.Дніпро)\, акторка та акредитована тренерка плейбек-театру.\nФорма реєстрації на перформанс та майстер-клас:https://forms.gle/eWdCxGzrPVgdQwYd9\nПісля реєстрації з Вами зв’яжеться організатор подій – Радушинська Катерина.По орг.питанням можна писати їй напряму\, нік в телеграмі: https://t.me/platantree\n—-Наразі є плейбек-театри в різних містах України в рамках Української Школи Плейбек-Театру\, що афілійована Centre for Playback Theatre\, Нью-Йорк.\nІ ми хочемо\, щоб Житомир доєднався до їх числа. То ж скоро будуть анонси і про запуск навчальної програми з сертифікатами міжнародного зразка!Доєднуйтесь до світової спільноти плейбек-акторів!
URL:https://gnatyukartcenter.com/event/perfomans-plejbek-teatru-susidy-m-dnipro-v-zhytomyri/
END:VEVENT
END:VCALENDAR