BEGIN:VCALENDAR
VERSION:2.0
PRODID:-// - ECPv6.15.20//NONSGML v1.0//EN
CALSCALE:GREGORIAN
METHOD:PUBLISH
X-ORIGINAL-URL:https://gnatyukartcenter.com
X-WR-CALDESC:Події за 
REFRESH-INTERVAL;VALUE=DURATION:PT1H
X-Robots-Tag:noindex
X-PUBLISHED-TTL:PT1H
BEGIN:VTIMEZONE
TZID:UTC
BEGIN:STANDARD
TZOFFSETFROM:+0000
TZOFFSETTO:+0000
TZNAME:UTC
DTSTART:20250101T000000
END:STANDARD
END:VTIMEZONE
BEGIN:VEVENT
DTSTART;TZID=UTC:20260327T180000
DTEND;TZID=UTC:20260327T190000
DTSTAMP:20260419T132421
CREATED:20260318T102955Z
LAST-MODIFIED:20260318T102955Z
UID:5653-1774634400-1774638000@gnatyukartcenter.com
SUMMARY:"ЛІТОПИС СІРОГО ОРДЕНУ" презентація трилогії Павла Дерев’янка
DESCRIPTION:Письменник і військовий Павло Дерев’янко вирушає у тур містами України з презентацією фентезійної трилогії «Літопис Сірого Ордену».До серії входять книги: «Аркан вовків» «Тенета війни» «Пісня дібров»У цих романах поєднуються альтернативна історія Гетьманату\, козацька міфологія\, магія характерників та масштабна боротьба за честь і свободу у похмурому й водночас захопливому світі. Презентації відбудуться у 14 містах України. Для участі у події просимо зареєструватися за посиланням та здійснити донат від 100 грн.Реєстрація: linktr.ee/tur_dereviankoУсі зібрані кошти будуть спрямовані на благодійну мету туру — забезпечення бригади «Азов» засобами протидії атакам із неба та для ударів у відповідь.Безоплатно відвідати захід можуть: учасники/ці бойових дій військовослужбовці/виці Сил безпеки та оборони України люди з інвалідністю внаслідок війни діти військовослужбовців/иць та учасників/ць бойових дій діти до 12 років
URL:https://gnatyukartcenter.com/event/litopys-sirogo-ordenu-prezentatsiya-trylogiyi-pavla-derev-yanka/
END:VEVENT
END:VCALENDAR