BEGIN:VCALENDAR
VERSION:2.0
PRODID:-// - ECPv6.15.20//NONSGML v1.0//EN
CALSCALE:GREGORIAN
METHOD:PUBLISH
X-ORIGINAL-URL:https://gnatyukartcenter.com
X-WR-CALDESC:Події за 
REFRESH-INTERVAL;VALUE=DURATION:PT1H
X-Robots-Tag:noindex
X-PUBLISHED-TTL:PT1H
BEGIN:VTIMEZONE
TZID:UTC
BEGIN:STANDARD
TZOFFSETFROM:+0000
TZOFFSETTO:+0000
TZNAME:UTC
DTSTART:20250101T000000
END:STANDARD
END:VTIMEZONE
BEGIN:VEVENT
DTSTART;TZID=UTC:20260328T120000
DTEND;TZID=UTC:20260328T140000
DTSTAMP:20260419T132727
CREATED:20260318T102533Z
LAST-MODIFIED:20260318T102713Z
UID:5649-1774699200-1774706400@gnatyukartcenter.com
SUMMARY:Музичний дивосвіт
DESCRIPTION:МУЗИЧНА ШКОЛА ІМЕНІ ЛЕСІ УКРАЇНКИЖитомирської міської ради \nГнатюк Арт Центр \n📅 28 березня 2026 року | 12:00 \n\nМУЗИЧНИЙ ДИВОСВІТ\nГостина інструментальної музики та авторської поезії \n\nІнструментальний ансамбль «ЛЮРА»Художній керівник Анна КислюкПартія фортепіано Анна ЧугаєвськаВедуча Людмила Войцехівська \n\nВхід вільний 🎶
URL:https://gnatyukartcenter.com/event/muzychnyj-dyvosvit/
END:VEVENT
BEGIN:VEVENT
DTSTART;TZID=UTC:20260328T140000
DTEND;TZID=UTC:20260328T160000
DTSTAMP:20260419T132727
CREATED:20260318T102343Z
LAST-MODIFIED:20260318T102343Z
UID:5647-1774706400-1774713600@gnatyukartcenter.com
SUMMARY:Круглий стіл "Пізнаємо себе і світ". Тема "УКРАЇНА – ПРОСТІР ЛЮБОВІ"
DESCRIPTION:ДЕПАРТАМЕНТ ОСВІТИ ТЕОСОФСЬКОГО ТОВАРИСТВА В УКРАЇНІ та GNATYUK ART CENTER представляє Цикл зустрічей «ПІЗНАЄМО СЕБЕ І СВІТ»ЗАПРОШУЄМО ДРУЗІВ 28 лютого 2026 р. на відкриту лекцію – Тема: УКРАЇНА – ПРОСТІР ЛЮБОВІ.Анонс. Кожна нація\, кожна країна виконує свою місію у вселюдській історії\, творячи спільну духовну і матеріальну реальність.Призначення України й українців – утверджувати Істину\, творити Добро\, захищати Красу. Місія України – стати Простором Любові\, бути джерелом духовної наснаги людства. У цьому – її велич і її національна ідея.Лектор: Ірина Новиченко\, письменниця. педагогиня.Ведуча: Тетяна Аріфходжаєва\, доктор філософії\, доцент.Дорогі друзі\, щиро запрошуємо вас та ваших друзів до участі.Круглий стіл відбудеться 28 березня о 14.00 в Гнатюк Арт Центрі\, вулиця Велика Бердичівська\, 20\, Житомир.
URL:https://gnatyukartcenter.com/event/kruglyj-stil-piznayemo-sebe-i-svit-tema-ukrayina-prostir-lyubovi/
END:VEVENT
END:VCALENDAR